BEGIN:VCALENDAR
VERSION:2.0
PRODID:icalendar-ruby
CALSCALE:GREGORIAN
METHOD:PUBLISH
BEGIN:VEVENT
DTSTAMP:20260425T174347Z
UID:7-242331@steppingstonesministry.com
DTSTART:20260923T013000Z
DTEND:20260923T023000Z
CLASS:PUBLIC
CREATED:20260425T081338
DESCRIPTION:
LAST-MODIFIED:20260425T081338
LOCATION:1030 Central Dr NW\, Concord\, NC 28027
SUMMARY:Bible Study 
URL;VALUE=URI:https://steppingstonesministry.com/events/bible-study/2026-09
 -22
ATTACH;FILENAME=photo-1581447109200-bf2769116351.jpeg;FMTTYPE=image/jpeg:ht
 tps://dq5pwpg1q8ru0.cloudfront.net/2025/08/11/00/14/44/f0ec076d-9725-446d-
 be00-21b90f3b2aad/photo-1581447109200-bf2769116351.jpeg
END:VEVENT
END:VCALENDAR
